BEGIN:VCALENDAR
VERSION:2.0
PRODID:-//Tukios.com/
BEGIN:VEVENT
UID:352197a2-8564-4888-8756-98088464143b@www.colefunerals.com
DTSTAMP:20260420T223922Z
DTSTART:20260423T190000Z
DTEND:20260423T200000Z
SUMMARY:Graveside Service
DESCRIPTION:
URL:https://www.colefunerals.com/obituaries/kasey-cole
LOCATION: Cemetery Street  Vilonia AR 72173
GEO:35.0795599;-92.2118306
END:VEVENT
END:VCALENDAR